BEGIN:VCALENDAR
VERSION:2.0
PRODID:-//Beaver Run Resort and Conference Center - ECPv6.15.15//NONSGML v1.0//EN
CALSCALE:GREGORIAN
METHOD:PUBLISH
X-ORIGINAL-URL:https://beaverrun.com
X-WR-CALDESC:Events for Beaver Run Resort and Conference Center
REFRESH-INTERVAL;VALUE=DURATION:PT1H
X-Robots-Tag:noindex
X-PUBLISHED-TTL:PT1H
BEGIN:VTIMEZONE
TZID:America/Denver
BEGIN:DAYLIGHT
TZOFFSETFROM:-0700
TZOFFSETTO:-0600
TZNAME:MDT
DTSTART:20240310T090000
END:DAYLIGHT
BEGIN:STANDARD
TZOFFSETFROM:-0600
TZOFFSETTO:-0700
TZNAME:MST
DTSTART:20241103T080000
END:STANDARD
BEGIN:DAYLIGHT
TZOFFSETFROM:-0700
TZOFFSETTO:-0600
TZNAME:MDT
DTSTART:20250309T090000
END:DAYLIGHT
BEGIN:STANDARD
TZOFFSETFROM:-0600
TZOFFSETTO:-0700
TZNAME:MST
DTSTART:20251102T080000
END:STANDARD
BEGIN:DAYLIGHT
TZOFFSETFROM:-0700
TZOFFSETTO:-0600
TZNAME:MDT
DTSTART:20260308T090000
END:DAYLIGHT
BEGIN:STANDARD
TZOFFSETFROM:-0600
TZOFFSETTO:-0700
TZNAME:MST
DTSTART:20261101T080000
END:STANDARD
END:VTIMEZONE
BEGIN:VEVENT
DTSTART;VALUE=DATE:20250830
DTEND;VALUE=DATE:20250902
DTSTAMP:20260421T055422
CREATED:20250630T173509Z
LAST-MODIFIED:20250630T174827Z
UID:9702-1756512000-1756771199@beaverrun.com
SUMMARY:50th Breckenridge Gathering at the Great Divide Art Festival
DESCRIPTION:Sat\, Aug 30\, 10:00 AM  Mon\, Sep 1\, 4:00 PM\nColorado Mountain College\n\nLongest running art festival in Summit County continues this summer over Labor Day weekend in beautiful Breckenridge\, Colorado. \n  \nThe show will be at Colorado Mountain College just north of town with free admission and free parking. \n  \nTo get to the show: Take bus from town\, ride your bike on the rec path\, easy and free parking onsite. \n  \n10am-5pm Saturday and Sunday\, 10am-4pm Monday
URL:https://beaverrun.com/event/50th-breckenridge-gathering-at-the-great-divide-art-festival/
LOCATION:Colorado Mountain College\, 107 Denison Placer Road\, Breckenridge\, CO\, 80424\, United States
CATEGORIES:Main Events
ATTACH;FMTTYPE=image/jpeg:https://e88g3fsivjz.exactdn.com/wp-content/uploads/2025/06/great-divide-art.jpg
END:VEVENT
BEGIN:VEVENT
DTSTART;TZID=America/Denver:20250911T173000
DTEND;TZID=America/Denver:20250911T220000
DTSTAMP:20260421T055422
CREATED:20250807T213142Z
LAST-MODIFIED:20250807T213142Z
UID:9782-1757611800-1757628000@beaverrun.com
SUMMARY:Brewmasters Dinner
DESCRIPTION:Prost! Oktoberfest Brewmaster Dinner\n\n\n\n\nSeptember 11th at 5:30pm\n\n\n\n\n\n\n\n\n\n\n\nBavaria in Breckenridge! Kick off your Breckenridge Oktoberfest weekend by enjoying German-style beer pairings from our partners at Wibby Brewing in your own souvenir tasting glass alongside traditional cuisine and music from Denver’s own Polkanauts! Pre-order now to receive an extra beer ticket (limited availability)! \n$50(+taxes & gratuity) includes food\, 5 beer tickets (6 with pre-order)\, a souvenir glass\, and entry to the Polkanauts show. \n\n\n\n\nReservations
URL:https://beaverrun.com/event/brewmasters-dinner/
LOCATION:Beaver Run Resort\, 620 Village Rd\, Breckenridge\, CO\, 80424
CATEGORIES:Food and Beverage,Main Events
ATTACH;FMTTYPE=image/jpeg:https://e88g3fsivjz.exactdn.com/wp-content/uploads/2024/08/Oktoberfest-9.jpg
END:VEVENT
BEGIN:VEVENT
DTSTART;TZID=America/Denver:20250918T080000
DTEND;TZID=America/Denver:20250921T170000
DTSTAMP:20260421T055422
CREATED:20250417T155703Z
LAST-MODIFIED:20250417T155703Z
UID:9378-1758182400-1758474000@beaverrun.com
SUMMARY:Breckenridge Film Festival
DESCRIPTION:Breck Film celebrates its annual festival in late September. Join Breck Film for films\, forums\, parties and free kids events all weekend long. Breck Film Fest is hosted across three venues in Breckenridge: The Eclipse Theater\, The Riverwalk Center and Breck Backstage Theater – all walkable from Breck’s historic Main Street. Experience Breck like never before\, through film! \nVisit breckfilm.org for more info. \nLearn More or Purchase Tickets
URL:https://beaverrun.com/event/breckenridge-film-festival-2/
LOCATION:Eclipse Movie Theatre\, 103 S Harris St\, Breckenridge\, CO\, 80424\, United States
ATTACH;FMTTYPE=image/jpeg:https://e88g3fsivjz.exactdn.com/wp-content/uploads/2024/08/Breck-Film-Fest-Movie-1536x1024-1.jpg
END:VEVENT
END:VCALENDAR