BEGIN:VCALENDAR
VERSION:2.0
PRODID:-//Beaver Run Resort and Conference Center - ECPv6.15.15//NONSGML v1.0//EN
CALSCALE:GREGORIAN
METHOD:PUBLISH
X-ORIGINAL-URL:https://beaverrun.com
X-WR-CALDESC:Events for Beaver Run Resort and Conference Center
REFRESH-INTERVAL;VALUE=DURATION:PT1H
X-Robots-Tag:noindex
X-PUBLISHED-TTL:PT1H
BEGIN:VTIMEZONE
TZID:America/Denver
BEGIN:DAYLIGHT
TZOFFSETFROM:-0700
TZOFFSETTO:-0600
TZNAME:MDT
DTSTART:20240310T090000
END:DAYLIGHT
BEGIN:STANDARD
TZOFFSETFROM:-0600
TZOFFSETTO:-0700
TZNAME:MST
DTSTART:20241103T080000
END:STANDARD
BEGIN:DAYLIGHT
TZOFFSETFROM:-0700
TZOFFSETTO:-0600
TZNAME:MDT
DTSTART:20250309T090000
END:DAYLIGHT
BEGIN:STANDARD
TZOFFSETFROM:-0600
TZOFFSETTO:-0700
TZNAME:MST
DTSTART:20251102T080000
END:STANDARD
BEGIN:DAYLIGHT
TZOFFSETFROM:-0700
TZOFFSETTO:-0600
TZNAME:MDT
DTSTART:20260308T090000
END:DAYLIGHT
BEGIN:STANDARD
TZOFFSETFROM:-0600
TZOFFSETTO:-0700
TZNAME:MST
DTSTART:20261101T080000
END:STANDARD
END:VTIMEZONE
BEGIN:VEVENT
DTSTART;TZID=America/Denver:20251218T080000
DTEND;TZID=America/Denver:20251220T170000
DTSTAMP:20260421T132737
CREATED:20250924T153932Z
LAST-MODIFIED:20250930T154348Z
UID:5134-1766044800-1766250000@beaverrun.com
SUMMARY:Ullr Fest
DESCRIPTION:Ullr Fest\, a beloved annual tradition in Breckenridge\, Colorado\, celebrates the Norse god of snow\, Ullr\, and brings the community together for a week of winter revelry. This lively festival\, typically held in January\, features a range of fun activities including a colorful parade\, wacky competitions\, and the iconic Ullr bonfire. Locals and visitors alike don Viking helmets and fur-clad costumes to honor Ullr\, hoping to invoke his blessings for abundant snowfall. With its blend of playful spirit and deep-rooted traditions\, Ullr Fest captures the heart and soul of Breckenridge’s winter culture\, making it a must-attend event for snow enthusiasts and revelers.
URL:https://beaverrun.com/event/ullr-fest-2/
LOCATION:Breckenridge Main Street
CATEGORIES:Main Events
ATTACH;FMTTYPE=image/jpeg:https://e88g3fsivjz.exactdn.com/wp-content/uploads/2023/11/Ullr-Fest-Breck-bonfire.jpg
END:VEVENT
BEGIN:VEVENT
DTSTART;TZID=America/Denver:20251219T080000
DTEND;TZID=America/Denver:20251221T170000
DTSTAMP:20260421T132737
CREATED:20250917T194911Z
LAST-MODIFIED:20250917T194918Z
UID:9859-1766131200-1766336400@beaverrun.com
SUMMARY:Rockstar Energy Open
DESCRIPTION:The Rockstar Energy Open is a new three-day snowboarding festival scheduled for December 19-21\, 2025\, taking place at Breckenridge Ski Resort during the town’s Ullr Fest. Summit Daily It will feature elite and emerging snowboarders—over 60 athletes including both men’s and women’s divisions—with the field selected partly through a Video Qualifying Series (VQS) running from October 27 to November 23. Summit Daily Participants like Olympic gold medalist Red Gerard\, Colorado native Nik Baden\, and Iris Pham are expected. Summit Daily In addition to competition\, the festival will include free concerts\, art installations\, an interactive fan village\, and a brand-new rider-designed course built in collaboration with Snow Park Technologies and the Breckenridge Terrain Park crew. Summit Daily The event is free to attend for the public\, with optional VIP upgrades\, and the action will be livestreamed globally via platforms such as ThePlatfrm.com and FuelTV.
URL:https://beaverrun.com/event/rockstar-energy-open/
LOCATION:Breckenridge Ski Resort\, Breckenridge\, 80424\, United States
CATEGORIES:Main Events
ATTACH;FMTTYPE=image/jpeg:https://e88g3fsivjz.exactdn.com/wp-content/uploads/2025/09/2025_SAP_rockstar-event_logo_RGB_white_1049x1049.jpg
END:VEVENT
END:VCALENDAR