BEGIN:VCALENDAR
VERSION:2.0
PRODID:-//Beaver Run Resort and Conference Center - ECPv6.15.15//NONSGML v1.0//EN
CALSCALE:GREGORIAN
METHOD:PUBLISH
X-WR-CALNAME:Beaver Run Resort and Conference Center
X-ORIGINAL-URL:https://beaverrun.com
X-WR-CALDESC:Events for Beaver Run Resort and Conference Center
REFRESH-INTERVAL;VALUE=DURATION:PT1H
X-Robots-Tag:noindex
X-PUBLISHED-TTL:PT1H
BEGIN:VTIMEZONE
TZID:America/Denver
BEGIN:DAYLIGHT
TZOFFSETFROM:-0700
TZOFFSETTO:-0600
TZNAME:MDT
DTSTART:20240310T090000
END:DAYLIGHT
BEGIN:STANDARD
TZOFFSETFROM:-0600
TZOFFSETTO:-0700
TZNAME:MST
DTSTART:20241103T080000
END:STANDARD
BEGIN:DAYLIGHT
TZOFFSETFROM:-0700
TZOFFSETTO:-0600
TZNAME:MDT
DTSTART:20250309T090000
END:DAYLIGHT
BEGIN:STANDARD
TZOFFSETFROM:-0600
TZOFFSETTO:-0700
TZNAME:MST
DTSTART:20251102T080000
END:STANDARD
BEGIN:DAYLIGHT
TZOFFSETFROM:-0700
TZOFFSETTO:-0600
TZNAME:MDT
DTSTART:20260308T090000
END:DAYLIGHT
BEGIN:STANDARD
TZOFFSETFROM:-0600
TZOFFSETTO:-0700
TZNAME:MST
DTSTART:20261101T080000
END:STANDARD
END:VTIMEZONE
BEGIN:VEVENT
DTSTART;VALUE=DATE:20251127
DTEND;VALUE=DATE:20251128
DTSTAMP:20260421T065858
CREATED:20250925T151949Z
LAST-MODIFIED:20251021T195416Z
UID:6869-1764201600-1764287999@beaverrun.com
SUMMARY:Beaver Run Thanksgiving Feast
DESCRIPTION:Join us for Beaver Run’s annual Thanksgiving Feast! Celebrate the occasion with a spread of classic favorites alongside a delectable seafood tower and irresistible desserts. We will have multiple chef-attended stations with turkey\, prime rib\, and a seafood spread. This year\, we will be holding the event in the Colorado Ballroom at Beaver Run (see confirmation e-mail for directions). We will host the event at three specified meal periods. Please purchase your tickets based on your desired time slot. If you have any questions\, please call us at (970) 453-8755. \nPricing:\n$86++ Adults\n$30++ Kids 12 & Under\nIncludes soft drink – limited bar options will be available for additional purchase \nMeal Periods:\n11:00am – 1:30pm\n2:30pm – 5:00pm\n6:00pm – 8:30pm \nMake Your Reservation Today!
URL:https://beaverrun.com/event/spencers-thanksgiving-feast-2/
LOCATION:Spencer’s Steaks & Spirits\, 620 Village Road\, Breckenridge\, CO\, 80424\, United States
CATEGORIES:Food and Beverage,Main Events
ATTACH;FMTTYPE=image/jpeg:https://e88g3fsivjz.exactdn.com/wp-content/uploads/2025/10/IMG_3067.jpeg
END:VEVENT
BEGIN:VEVENT
DTSTART;TZID=America/Denver:20251127T080000
DTEND;TZID=America/Denver:20251130T170000
DTSTAMP:20260421T065858
CREATED:20250917T195431Z
LAST-MODIFIED:20250917T195437Z
UID:9861-1764230400-1764522000@beaverrun.com
SUMMARY:2025 Stifel Copper Cup
DESCRIPTION:The Stifel Copper Cup is an Audi FIS Alpine Ski World Cup event set for November 27-30\, 2025 at Copper Mountain\, Colorado. coppercolorado.com+4U.S. Ski & Snowboard+4Ski Racing Media+4 It marks the first time Copper Mountain is the primary venue for an alpine World Cup competition. Ski Racing Media+2U.S. Ski & Snowboard+2 The schedule includes men’s super-G and giant slalom races on the first two days\, followed by women’s giant slalom and slalom on the last two days. Ski Racing Media+3SKI+3Sauce on Copper+3 This event also replaces the Killington World Cup races for 2025 (due to lift construction at Killington)\, and it will be the only women’s World Cup stop in the U.S. during the 2025-26 season. SKI+3Aspen Times+3U.S. Ski & Snowboard+3 It’s especially important as a lead-up to the 2026 Winter Olympics\, with top athletes expected to compete.
URL:https://beaverrun.com/event/2025-stifel-copper-cup/
LOCATION:Copper Mountain\, CO\, 80443\, United States
CATEGORIES:Main Events
ATTACH;FMTTYPE=image/jpeg:https://e88g3fsivjz.exactdn.com/wp-content/uploads/2025/09/AdobeStock_21606841.jpg
END:VEVENT
END:VCALENDAR