BEGIN:VCALENDAR
VERSION:2.0
PRODID:-//Beaver Run Resort and Conference Center - ECPv6.15.15//NONSGML v1.0//EN
CALSCALE:GREGORIAN
METHOD:PUBLISH
X-WR-CALNAME:Beaver Run Resort and Conference Center
X-ORIGINAL-URL:https://beaverrun.com
X-WR-CALDESC:Events for Beaver Run Resort and Conference Center
REFRESH-INTERVAL;VALUE=DURATION:PT1H
X-Robots-Tag:noindex
X-PUBLISHED-TTL:PT1H
BEGIN:VTIMEZONE
TZID:America/Denver
BEGIN:DAYLIGHT
TZOFFSETFROM:-0700
TZOFFSETTO:-0600
TZNAME:MDT
DTSTART:20240310T090000
END:DAYLIGHT
BEGIN:STANDARD
TZOFFSETFROM:-0600
TZOFFSETTO:-0700
TZNAME:MST
DTSTART:20241103T080000
END:STANDARD
BEGIN:DAYLIGHT
TZOFFSETFROM:-0700
TZOFFSETTO:-0600
TZNAME:MDT
DTSTART:20250309T090000
END:DAYLIGHT
BEGIN:STANDARD
TZOFFSETFROM:-0600
TZOFFSETTO:-0700
TZNAME:MST
DTSTART:20251102T080000
END:STANDARD
BEGIN:DAYLIGHT
TZOFFSETFROM:-0700
TZOFFSETTO:-0600
TZNAME:MDT
DTSTART:20260308T090000
END:DAYLIGHT
BEGIN:STANDARD
TZOFFSETFROM:-0600
TZOFFSETTO:-0700
TZNAME:MST
DTSTART:20261101T080000
END:STANDARD
END:VTIMEZONE
BEGIN:VEVENT
DTSTART;TZID=America/Denver:20250911T173000
DTEND;TZID=America/Denver:20250911T220000
DTSTAMP:20260420T033222
CREATED:20250807T213142Z
LAST-MODIFIED:20250807T213142Z
UID:9782-1757611800-1757628000@beaverrun.com
SUMMARY:Brewmasters Dinner
DESCRIPTION:Prost! Oktoberfest Brewmaster Dinner\n\n\n\n\nSeptember 11th at 5:30pm\n\n\n\n\n\n\n\n\n\n\n\nBavaria in Breckenridge! Kick off your Breckenridge Oktoberfest weekend by enjoying German-style beer pairings from our partners at Wibby Brewing in your own souvenir tasting glass alongside traditional cuisine and music from Denver’s own Polkanauts! Pre-order now to receive an extra beer ticket (limited availability)! \n$50(+taxes & gratuity) includes food\, 5 beer tickets (6 with pre-order)\, a souvenir glass\, and entry to the Polkanauts show. \n\n\n\n\nReservations
URL:https://beaverrun.com/event/brewmasters-dinner/
LOCATION:Beaver Run Resort\, 620 Village Rd\, Breckenridge\, CO\, 80424
CATEGORIES:Food and Beverage,Main Events
ATTACH;FMTTYPE=image/jpeg:https://e88g3fsivjz.exactdn.com/wp-content/uploads/2024/08/Oktoberfest-9.jpg
END:VEVENT
END:VCALENDAR