BEGIN:VCALENDAR
VERSION:2.0
PRODID:-//Beaver Run Resort and Conference Center - ECPv6.15.15//NONSGML v1.0//EN
CALSCALE:GREGORIAN
METHOD:PUBLISH
X-ORIGINAL-URL:https://beaverrun.com
X-WR-CALDESC:Events for Beaver Run Resort and Conference Center
REFRESH-INTERVAL;VALUE=DURATION:PT1H
X-Robots-Tag:noindex
X-PUBLISHED-TTL:PT1H
BEGIN:VTIMEZONE
TZID:America/Denver
BEGIN:DAYLIGHT
TZOFFSETFROM:-0700
TZOFFSETTO:-0600
TZNAME:MDT
DTSTART:20240310T090000
END:DAYLIGHT
BEGIN:STANDARD
TZOFFSETFROM:-0600
TZOFFSETTO:-0700
TZNAME:MST
DTSTART:20241103T080000
END:STANDARD
BEGIN:DAYLIGHT
TZOFFSETFROM:-0700
TZOFFSETTO:-0600
TZNAME:MDT
DTSTART:20250309T090000
END:DAYLIGHT
BEGIN:STANDARD
TZOFFSETFROM:-0600
TZOFFSETTO:-0700
TZNAME:MST
DTSTART:20251102T080000
END:STANDARD
BEGIN:DAYLIGHT
TZOFFSETFROM:-0700
TZOFFSETTO:-0600
TZNAME:MDT
DTSTART:20260308T090000
END:DAYLIGHT
BEGIN:STANDARD
TZOFFSETFROM:-0600
TZOFFSETTO:-0700
TZNAME:MST
DTSTART:20261101T080000
END:STANDARD
END:VTIMEZONE
BEGIN:VEVENT
DTSTART;VALUE=DATE:20250807
DTEND;VALUE=DATE:20250810
DTSTAMP:20260419T223318
CREATED:20250630T174101Z
LAST-MODIFIED:20250630T174929Z
UID:9706-1754524800-1754783999@beaverrun.com
SUMMARY:24th Annual Breckenridge August Art Festival
DESCRIPTION:Thu\, Aug 7\, 10:00 AM  Sat\, Aug 9\, 5:00 PM\nMountain Art Festivals\n\nShow will be at the Village at Breckenridge and Main Street Station on the South end of town. \nLive music and art demonstrations all weekend. \n  \nWalk\, ride your bike or take the free bus to the show! \n  \nFree admission and family friendly \n10am-5pm Thursday- Saturday
URL:https://beaverrun.com/event/24th-annual-breckenridge-august-art-festival/
LOCATION:The Village at Breck\, 535 South Park Avenue\, Breckenridge\, CO\, 80424\, United States
CATEGORIES:Main Events
ATTACH;FMTTYPE=image/jpeg:https://e88g3fsivjz.exactdn.com/wp-content/uploads/2025/06/24th-Annual-Breckenridge-August-Art-Festival.jpg
END:VEVENT
END:VCALENDAR