BEGIN:VCALENDAR
VERSION:2.0
PRODID:-//Beaver Run Resort and Conference Center - ECPv6.15.15//NONSGML v1.0//EN
CALSCALE:GREGORIAN
METHOD:PUBLISH
X-ORIGINAL-URL:https://beaverrun.com
X-WR-CALDESC:Events for Beaver Run Resort and Conference Center
REFRESH-INTERVAL;VALUE=DURATION:PT1H
X-Robots-Tag:noindex
X-PUBLISHED-TTL:PT1H
BEGIN:VTIMEZONE
TZID:America/Denver
BEGIN:DAYLIGHT
TZOFFSETFROM:-0700
TZOFFSETTO:-0600
TZNAME:MDT
DTSTART:20240310T090000
END:DAYLIGHT
BEGIN:STANDARD
TZOFFSETFROM:-0600
TZOFFSETTO:-0700
TZNAME:MST
DTSTART:20241103T080000
END:STANDARD
BEGIN:DAYLIGHT
TZOFFSETFROM:-0700
TZOFFSETTO:-0600
TZNAME:MDT
DTSTART:20250309T090000
END:DAYLIGHT
BEGIN:STANDARD
TZOFFSETFROM:-0600
TZOFFSETTO:-0700
TZNAME:MST
DTSTART:20251102T080000
END:STANDARD
BEGIN:DAYLIGHT
TZOFFSETFROM:-0700
TZOFFSETTO:-0600
TZNAME:MDT
DTSTART:20260308T090000
END:DAYLIGHT
BEGIN:STANDARD
TZOFFSETFROM:-0600
TZOFFSETTO:-0700
TZNAME:MST
DTSTART:20261101T080000
END:STANDARD
END:VTIMEZONE
BEGIN:VEVENT
DTSTART;TZID=America/Denver:20251129T173000
DTEND;TZID=America/Denver:20251129T210000
DTSTAMP:20260421T012839
CREATED:20251022T162215Z
LAST-MODIFIED:20251106T220845Z
UID:9906-1764437400-1764450000@beaverrun.com
SUMMARY:Sip & S’mores: Grand Marnier & Hot Cocoa Social
DESCRIPTION:Join us this Thanksgiving Saturday at 5:30 PM for a cozy evening of Grand Marnier-infused hot chocolate\, fireside s’mores\, and good company! In partnership with our friends at Aperol\, we’re bringing warmth and flavor to your holiday weekend. Enjoy complimentary entry\, sip on festive Wassail and signature drinks available for purchase\, and create your perfect s’more with our s’mores kits for sale. Come unwind\, mingle\, and savor the season in style.
URL:https://beaverrun.com/event/sip-smores-grand-marnier-hot-cocoa-social/
LOCATION:Spencer’s Steaks & Spirits\, 620 Village Road\, Breckenridge\, CO\, 80424\, United States
CATEGORIES:Food and Beverage,Main Events
ATTACH;FMTTYPE=image/jpeg:https://e88g3fsivjz.exactdn.com/wp-content/uploads/2025/10/AdobeStock_1545616129.jpeg
END:VEVENT
END:VCALENDAR