BEGIN:VCALENDAR
VERSION:2.0
PRODID:-//Beaver Run Resort and Conference Center - ECPv6.15.15//NONSGML v1.0//EN
CALSCALE:GREGORIAN
METHOD:PUBLISH
X-WR-CALNAME:Beaver Run Resort and Conference Center
X-ORIGINAL-URL:https://beaverrun.com
X-WR-CALDESC:Events for Beaver Run Resort and Conference Center
REFRESH-INTERVAL;VALUE=DURATION:PT1H
X-Robots-Tag:noindex
X-PUBLISHED-TTL:PT1H
BEGIN:VTIMEZONE
TZID:America/Denver
BEGIN:DAYLIGHT
TZOFFSETFROM:-0700
TZOFFSETTO:-0600
TZNAME:MDT
DTSTART:20230312T090000
END:DAYLIGHT
BEGIN:STANDARD
TZOFFSETFROM:-0600
TZOFFSETTO:-0700
TZNAME:MST
DTSTART:20231105T080000
END:STANDARD
BEGIN:DAYLIGHT
TZOFFSETFROM:-0700
TZOFFSETTO:-0600
TZNAME:MDT
DTSTART:20240310T090000
END:DAYLIGHT
BEGIN:STANDARD
TZOFFSETFROM:-0600
TZOFFSETTO:-0700
TZNAME:MST
DTSTART:20241103T080000
END:STANDARD
BEGIN:DAYLIGHT
TZOFFSETFROM:-0700
TZOFFSETTO:-0600
TZNAME:MDT
DTSTART:20250309T090000
END:DAYLIGHT
BEGIN:STANDARD
TZOFFSETFROM:-0600
TZOFFSETTO:-0700
TZNAME:MST
DTSTART:20251102T080000
END:STANDARD
END:VTIMEZONE
BEGIN:VEVENT
DTSTART;TZID=America/Denver:20241225T110000
DTEND;TZID=America/Denver:20241225T190000
DTSTAMP:20260423T050348
CREATED:20241007T023425Z
LAST-MODIFIED:20241203T184437Z
UID:6734-1735124400-1735153200@beaverrun.com
SUMMARY:Spencer's Holiday Feast
DESCRIPTION:Join us Christmas Day for Spencer’s Holiday Feast! Feastivities will include holiday favorites\, winter drinks specials\, and more! \nALL YOU CAN EAT!\n$78++ Adults\n$38++ Kids Under 12\nKIDS UNDER 8 EAT FREE!* \nPlease call us to inquire about reservations for parties of 20+! \n\n$15 per-person deposit required to hold reservations. This deposit is refundable with at least one (1) week’s notice of cancellation or upon a party’s arrival.\nThis event is subject to a 21% gratuity for all parties.\nLarger parties may be seated in our adjacent Summit Gallery dining space.\nKids under 8 eat free when staying at Beaver Run Resort. Limit 2 kids’ meals per paid adult. Taxes\, resort fee\, and gratuity are NOT included.
URL:https://beaverrun.com/event/holiday-dinner/
LOCATION:Spencer’s Steaks & Spirits\, 620 Village Road\, Breckenridge\, CO\, 80424\, United States
CATEGORIES:Food and Beverage,Main Events
ATTACH;FMTTYPE=image/jpeg:https://e88g3fsivjz.exactdn.com/wp-content/uploads/2024/10/AdobeStock_611969823.jpeg
END:VEVENT
END:VCALENDAR