BEGIN:VCALENDAR
VERSION:2.0
PRODID:-//Beaver Run Resort and Conference Center - ECPv6.15.15//NONSGML v1.0//EN
CALSCALE:GREGORIAN
METHOD:PUBLISH
X-WR-CALNAME:Beaver Run Resort and Conference Center
X-ORIGINAL-URL:https://beaverrun.com
X-WR-CALDESC:Events for Beaver Run Resort and Conference Center
REFRESH-INTERVAL;VALUE=DURATION:PT1H
X-Robots-Tag:noindex
X-PUBLISHED-TTL:PT1H
BEGIN:VTIMEZONE
TZID:America/Denver
BEGIN:DAYLIGHT
TZOFFSETFROM:-0700
TZOFFSETTO:-0600
TZNAME:MDT
DTSTART:20240310T090000
END:DAYLIGHT
BEGIN:STANDARD
TZOFFSETFROM:-0600
TZOFFSETTO:-0700
TZNAME:MST
DTSTART:20241103T080000
END:STANDARD
BEGIN:DAYLIGHT
TZOFFSETFROM:-0700
TZOFFSETTO:-0600
TZNAME:MDT
DTSTART:20250309T090000
END:DAYLIGHT
BEGIN:STANDARD
TZOFFSETFROM:-0600
TZOFFSETTO:-0700
TZNAME:MST
DTSTART:20251102T080000
END:STANDARD
BEGIN:DAYLIGHT
TZOFFSETFROM:-0700
TZOFFSETTO:-0600
TZNAME:MDT
DTSTART:20260308T090000
END:DAYLIGHT
BEGIN:STANDARD
TZOFFSETFROM:-0600
TZOFFSETTO:-0700
TZNAME:MST
DTSTART:20261101T080000
END:STANDARD
END:VTIMEZONE
BEGIN:VEVENT
DTSTART;VALUE=DATE:20250703
DTEND;VALUE=DATE:20250706
DTSTAMP:20260422T102808
CREATED:20250630T174656Z
LAST-MODIFIED:20250630T174703Z
UID:9712-1751500800-1751759999@beaverrun.com
SUMMARY:42nd Annual Breckenridge July Art Festival
DESCRIPTION:Thu\, Jul 3\, 10:00 AM  Sat\, Jul 5\, 5:00 PM\n505 South Park AvenueBreckenridge\, CO\, 80424United States\n\nJuried art show will feature top artists in 13 categories. \n  \nFree admission/ Family friendly \nShow will run Thursday- Saturday \n  \n10am-5pm Daily
URL:https://beaverrun.com/event/42nd-annual-breckenridge-july-art-festival/
LOCATION:Main Street Station\, 505 S Main St\, Breckenridge\, CO\, 80424\, United States
CATEGORIES:Main Events
ATTACH;FMTTYPE=image/jpeg:https://e88g3fsivjz.exactdn.com/wp-content/uploads/2025/06/42nd-Annual-Breckenridge-July-Art-Festival.jpg
END:VEVENT
BEGIN:VEVENT
DTSTART;VALUE=DATE:20250704
DTEND;VALUE=DATE:20250705
DTSTAMP:20260422T102808
CREATED:20250408T212732Z
LAST-MODIFIED:20250408T212732Z
UID:9186-1751587200-1751673599@beaverrun.com
SUMMARY:4th of July
DESCRIPTION:2025 Independence Day Celebration\nEvery Independence Day\, Breckenridge comes alive with patriotism\, parties and the annual Main Street Parade.  It’s a day of celebration that includes athletic competitions\, live music\, art festivals\, family activities and a few of our favorite small-town traditions. \n  \n\n\n\n\nFirework-Free 4th of July\n\nThe town of Breckenridge does not have fireworks displays on Independence Day. Colorado’s low humidity has its perks\, but can also can create dry conditions. Our community places a high value on wildfire prevention\, and we thank guests in advance for not using fireworks in Breckenridge this Fourth of July. Learn more about preventing wildfires. \nFurry Friends\nTown officials strongly recommend leaving furry friends at home for their own safety and comfort as downtown is expected to be busy on July 4th. \n\n\n\n\n\n2025 Independence Day Celebration\nSchedule of Events (TBD)\n\nStreet Closure: Main Street will be closed from French St. to Park Ave. starting at 6:00am. Main Street from Ski Hill Rd. to Adams Ave. will remain closed from 6:00am – 6:00pm on July 4th. \nThe remainder of the road will open immediately following the parade. \nFind tips for getting around town during your trip.
URL:https://beaverrun.com/event/4th-of-july/
LOCATION:Breckenridge Main Street
CATEGORIES:Main Events
ATTACH;FMTTYPE=image/jpeg:https://e88g3fsivjz.exactdn.com/wp-content/uploads/2024/04/July4th_Parade_Lawlis.jpg
END:VEVENT
END:VCALENDAR