BEGIN:VCALENDAR
VERSION:2.0
PRODID:-//Beaver Run Resort and Conference Center - ECPv6.15.15//NONSGML v1.0//EN
CALSCALE:GREGORIAN
METHOD:PUBLISH
X-WR-CALNAME:Beaver Run Resort and Conference Center
X-ORIGINAL-URL:https://beaverrun.com
X-WR-CALDESC:Events for Beaver Run Resort and Conference Center
REFRESH-INTERVAL;VALUE=DURATION:PT1H
X-Robots-Tag:noindex
X-PUBLISHED-TTL:PT1H
BEGIN:VTIMEZONE
TZID:America/Denver
BEGIN:DAYLIGHT
TZOFFSETFROM:-0700
TZOFFSETTO:-0600
TZNAME:MDT
DTSTART:20240310T090000
END:DAYLIGHT
BEGIN:STANDARD
TZOFFSETFROM:-0600
TZOFFSETTO:-0700
TZNAME:MST
DTSTART:20241103T080000
END:STANDARD
BEGIN:DAYLIGHT
TZOFFSETFROM:-0700
TZOFFSETTO:-0600
TZNAME:MDT
DTSTART:20250309T090000
END:DAYLIGHT
BEGIN:STANDARD
TZOFFSETFROM:-0600
TZOFFSETTO:-0700
TZNAME:MST
DTSTART:20251102T080000
END:STANDARD
BEGIN:DAYLIGHT
TZOFFSETFROM:-0700
TZOFFSETTO:-0600
TZNAME:MDT
DTSTART:20260308T090000
END:DAYLIGHT
BEGIN:STANDARD
TZOFFSETFROM:-0600
TZOFFSETTO:-0700
TZNAME:MST
DTSTART:20261101T080000
END:STANDARD
END:VTIMEZONE
BEGIN:VEVENT
DTSTART;VALUE=DATE:20250328
DTEND;VALUE=DATE:20250330
DTSTAMP:20260422T221704
CREATED:20250323T180816Z
LAST-MODIFIED:20250323T180841Z
UID:8960-1743120000-1743292799@beaverrun.com
SUMMARY:Kona Big Wave Peak 9 Ski Beach
DESCRIPTION:March 21\, 22\, 28 & 29 and April 4 & 5\n\nSpring has sprung and we’re celebrating the good vibrations at the base of Peak 9 with the Kona Big Wave Ski Beach! Ride the stoke\, get in the groove\, and bring your Big Breck Energy to the snow at the base of Peak 9 from 1-4 PM featuring refreshing brews\, delicious food\, and rad tunes from live DJs every Friday and Saturday afternoon from March 21-April 
URL:https://beaverrun.com/event/kona-big-wave-peak-9-ski-beach/
LOCATION:Breckenridge Ski Resort\, Breckenridge\, 80424\, United States
CATEGORIES:Main Events
ATTACH;FMTTYPE=image/jpeg:https://e88g3fsivjz.exactdn.com/wp-content/uploads/2025/03/2025_SAP_kona-big-wave-peak-9_logo_RGB_477x588.jpg
END:VEVENT
END:VCALENDAR