BEGIN:VCALENDAR
VERSION:2.0
PRODID:-//Beaver Run Resort and Conference Center - ECPv6.15.15//NONSGML v1.0//EN
CALSCALE:GREGORIAN
METHOD:PUBLISH
X-WR-CALNAME:Beaver Run Resort and Conference Center
X-ORIGINAL-URL:https://beaverrun.com
X-WR-CALDESC:Events for Beaver Run Resort and Conference Center
REFRESH-INTERVAL;VALUE=DURATION:PT1H
X-Robots-Tag:noindex
X-PUBLISHED-TTL:PT1H
BEGIN:VTIMEZONE
TZID:America/Denver
BEGIN:DAYLIGHT
TZOFFSETFROM:-0700
TZOFFSETTO:-0600
TZNAME:MDT
DTSTART:20230312T090000
END:DAYLIGHT
BEGIN:STANDARD
TZOFFSETFROM:-0600
TZOFFSETTO:-0700
TZNAME:MST
DTSTART:20231105T080000
END:STANDARD
BEGIN:DAYLIGHT
TZOFFSETFROM:-0700
TZOFFSETTO:-0600
TZNAME:MDT
DTSTART:20240310T090000
END:DAYLIGHT
BEGIN:STANDARD
TZOFFSETFROM:-0600
TZOFFSETTO:-0700
TZNAME:MST
DTSTART:20241103T080000
END:STANDARD
BEGIN:DAYLIGHT
TZOFFSETFROM:-0700
TZOFFSETTO:-0600
TZNAME:MDT
DTSTART:20250309T090000
END:DAYLIGHT
BEGIN:STANDARD
TZOFFSETFROM:-0600
TZOFFSETTO:-0700
TZNAME:MST
DTSTART:20251102T080000
END:STANDARD
BEGIN:DAYLIGHT
TZOFFSETFROM:-0700
TZOFFSETTO:-0600
TZNAME:MDT
DTSTART:20260308T090000
END:DAYLIGHT
BEGIN:STANDARD
TZOFFSETFROM:-0600
TZOFFSETTO:-0700
TZNAME:MST
DTSTART:20261101T080000
END:STANDARD
END:VTIMEZONE
BEGIN:VEVENT
DTSTART;TZID=America/Denver:20241231T210000
DTEND;TZID=America/Denver:20250101T010000
DTSTAMP:20260423T035622
CREATED:20241028T191850Z
LAST-MODIFIED:20241028T192426Z
UID:6909-1735678800-1735693200@beaverrun.com
SUMMARY:New Year's Eve Bash featuring DJ Crisp in Base 9
DESCRIPTION:Join us in Base 9 Bar and ring in the New Year with DJ Crisp!
URL:https://beaverrun.com/event/new-years-eve-bash-featuring-dj-crisp-in-base-9/
LOCATION:Base 9 Bar\, 620 Village Rd\, Breckenridge\, CO\, 80424\, United States
CATEGORIES:Food and Beverage,Main Events
ATTACH;FMTTYPE=image/jpeg:https://e88g3fsivjz.exactdn.com/wp-content/uploads/2024/10/NYE-Party.jpg
END:VEVENT
BEGIN:VEVENT
DTSTART;TZID=America/Denver:20250101T140000
DTEND;TZID=America/Denver:20250101T170000
DTSTAMP:20260423T035622
CREATED:20241028T192403Z
LAST-MODIFIED:20241028T192403Z
UID:6913-1735740000-1735750800@beaverrun.com
SUMMARY:New Year's Day Party featuring DJ Murkem in Coppertop
DESCRIPTION:Ready to celebrate the new year? We’ve got you! Come on down to Coppertop Bar & Restaurant and rock the day away with DJ Murkem!
URL:https://beaverrun.com/event/new-years-day-party-featuring-dj-murkem-in-coppertop/
LOCATION:Coppertop Bar & Restaurant\, 620 Village Rd\, Breckenridge\, CO\, 80424\, United States
CATEGORIES:Food and Beverage
ATTACH;FMTTYPE=image/jpeg:https://e88g3fsivjz.exactdn.com/wp-content/uploads/2024/10/NYE-Party.jpg
END:VEVENT
END:VCALENDAR