BEGIN:VCALENDAR
VERSION:2.0
PRODID:-//Beaver Run Resort and Conference Center - ECPv6.15.15//NONSGML v1.0//EN
CALSCALE:GREGORIAN
METHOD:PUBLISH
X-ORIGINAL-URL:https://beaverrun.com
X-WR-CALDESC:Events for Beaver Run Resort and Conference Center
REFRESH-INTERVAL;VALUE=DURATION:PT1H
X-Robots-Tag:noindex
X-PUBLISHED-TTL:PT1H
BEGIN:VTIMEZONE
TZID:America/Denver
BEGIN:DAYLIGHT
TZOFFSETFROM:-0700
TZOFFSETTO:-0600
TZNAME:MDT
DTSTART:20250309T090000
END:DAYLIGHT
BEGIN:STANDARD
TZOFFSETFROM:-0600
TZOFFSETTO:-0700
TZNAME:MST
DTSTART:20251102T080000
END:STANDARD
BEGIN:DAYLIGHT
TZOFFSETFROM:-0700
TZOFFSETTO:-0600
TZNAME:MDT
DTSTART:20260308T090000
END:DAYLIGHT
BEGIN:STANDARD
TZOFFSETFROM:-0600
TZOFFSETTO:-0700
TZNAME:MST
DTSTART:20261101T080000
END:STANDARD
BEGIN:DAYLIGHT
TZOFFSETFROM:-0700
TZOFFSETTO:-0600
TZNAME:MDT
DTSTART:20270314T090000
END:DAYLIGHT
BEGIN:STANDARD
TZOFFSETFROM:-0600
TZOFFSETTO:-0700
TZNAME:MST
DTSTART:20271107T080000
END:STANDARD
END:VTIMEZONE
BEGIN:VEVENT
DTSTART;VALUE=DATE:20260911
DTEND;VALUE=DATE:20260914
DTSTAMP:20260419T111835
CREATED:20250320T215002Z
LAST-MODIFIED:20251218T184545Z
UID:6531-1789084800-1789343999@beaverrun.com
SUMMARY:Breckenridge Blue Grass & Beer Festival
DESCRIPTION:Beer is a universally cherished drink and the key to many amazing experiences. When you combine it with live Bluegrass music\, tasty food\, stunning views of Breckenridge’s mountains\, and great company\, you create an unbeatable formula for a magical time. This is exactly what the Breckenridge Bluegrass & Beer festival\, hosted by Rocky Mountain Events\, delivers. \nBeer enthusiasts gather to sample a variety of brews from both local and national craft breweries\, all while enjoying the lively tunes of Blue River Grass against the breathtaking Breckenridge backdrop. Attendees get a special tasting glass\, access to live music\, entertainment\, and festival activities\, plus the chance to explore and savor a range of beers\, guided by knowledgeable brewery ambassadors. Delicious food from local vendors is available for purchase throughout the event. Once you’ve experienced it\, you’ll definitely want to return year after year!
URL:https://beaverrun.com/event/breckenridge-blue-grass-beer-festival/
LOCATION:Main Street Station\, 505 S Main St\, Breckenridge\, CO\, 80424\, United States
CATEGORIES:Main Events
ATTACH;FMTTYPE=image/jpeg:https://e88g3fsivjz.exactdn.com/wp-content/uploads/2024/08/Oktoberfest-11.jpg
END:VEVENT
END:VCALENDAR