BEGIN:VCALENDAR
VERSION:2.0
PRODID:-//Beaver Run Resort and Conference Center - ECPv6.15.15//NONSGML v1.0//EN
CALSCALE:GREGORIAN
METHOD:PUBLISH
X-WR-CALNAME:Beaver Run Resort and Conference Center
X-ORIGINAL-URL:https://beaverrun.com
X-WR-CALDESC:Events for Beaver Run Resort and Conference Center
REFRESH-INTERVAL;VALUE=DURATION:PT1H
X-Robots-Tag:noindex
X-PUBLISHED-TTL:PT1H
BEGIN:VTIMEZONE
TZID:America/Denver
BEGIN:DAYLIGHT
TZOFFSETFROM:-0700
TZOFFSETTO:-0600
TZNAME:MDT
DTSTART:20240310T090000
END:DAYLIGHT
BEGIN:STANDARD
TZOFFSETFROM:-0600
TZOFFSETTO:-0700
TZNAME:MST
DTSTART:20241103T080000
END:STANDARD
BEGIN:DAYLIGHT
TZOFFSETFROM:-0700
TZOFFSETTO:-0600
TZNAME:MDT
DTSTART:20250309T090000
END:DAYLIGHT
BEGIN:STANDARD
TZOFFSETFROM:-0600
TZOFFSETTO:-0700
TZNAME:MST
DTSTART:20251102T080000
END:STANDARD
BEGIN:DAYLIGHT
TZOFFSETFROM:-0700
TZOFFSETTO:-0600
TZNAME:MDT
DTSTART:20260308T090000
END:DAYLIGHT
BEGIN:STANDARD
TZOFFSETFROM:-0600
TZOFFSETTO:-0700
TZNAME:MST
DTSTART:20261101T080000
END:STANDARD
END:VTIMEZONE
BEGIN:VEVENT
DTSTART;VALUE=DATE:20250613
DTEND;VALUE=DATE:20250615
DTSTAMP:20260421T145127
CREATED:20250519T203144Z
LAST-MODIFIED:20250602T235356Z
UID:9617-1749772800-1749945599@beaverrun.com
SUMMARY:BBQ at the Base – Summer Kickoff Weekend
DESCRIPTION:BBQ at the Base – Summer Kickoff Weekend | June 13–14 at Beaver Run!\nCelebrate the start of summer with BBQ at the Base\, our kickoff weekend packed with food\, fun\, and family-friendly events at Beaver Run Resort — and the best part? It’s just the beginning! We’ll be hosting BBQ at the Base every weekend all summer long\, running from 3 PM to dusk on the Beaver Den patio. \n\nFriday\, June 13: Yappy Hour kicks off at 3 PM – bring your pup and enjoy drinks with a view. Live Music begins at 4 PM – enjoy great tunes and a relaxed mountain vibe. Tito’s Vodka will be onsite with specialty cocktails and fun goodies for your furry friends!\nSaturday\, June 14: Kids’ Afternoon starts at the Skywalk Market at 3 PM with crafts hosted by Frosted Flamingo and delicious ice cream. Parents enjoy great food and drink deals at the BBQ or in Spencer’s at Happy Hour.\n\nJoin us for BBQ at the Base — where summer weekends come to life at Beaver Run!
URL:https://beaverrun.com/event/bbq-at-the-base-summer-kickoff-weeken/
LOCATION:Beaver Run Resort\, 620 Village Rd\, Breckenridge\, CO\, 80424
CATEGORIES:Food and Beverage,Main Events
ATTACH;FMTTYPE=image/jpeg:https://e88g3fsivjz.exactdn.com/wp-content/uploads/2022/10/04-2021-Outdoor-Dining-scaled.jpg
END:VEVENT
END:VCALENDAR