BEGIN:VCALENDAR
VERSION:2.0
PRODID:-//Beaver Run Resort and Conference Center - ECPv6.15.15//NONSGML v1.0//EN
CALSCALE:GREGORIAN
METHOD:PUBLISH
X-WR-CALNAME:Beaver Run Resort and Conference Center
X-ORIGINAL-URL:https://beaverrun.com
X-WR-CALDESC:Events for Beaver Run Resort and Conference Center
REFRESH-INTERVAL;VALUE=DURATION:PT1H
X-Robots-Tag:noindex
X-PUBLISHED-TTL:PT1H
BEGIN:VTIMEZONE
TZID:America/Denver
BEGIN:DAYLIGHT
TZOFFSETFROM:-0700
TZOFFSETTO:-0600
TZNAME:MDT
DTSTART:20240310T090000
END:DAYLIGHT
BEGIN:STANDARD
TZOFFSETFROM:-0600
TZOFFSETTO:-0700
TZNAME:MST
DTSTART:20241103T080000
END:STANDARD
BEGIN:DAYLIGHT
TZOFFSETFROM:-0700
TZOFFSETTO:-0600
TZNAME:MDT
DTSTART:20250309T090000
END:DAYLIGHT
BEGIN:STANDARD
TZOFFSETFROM:-0600
TZOFFSETTO:-0700
TZNAME:MST
DTSTART:20251102T080000
END:STANDARD
BEGIN:DAYLIGHT
TZOFFSETFROM:-0700
TZOFFSETTO:-0600
TZNAME:MDT
DTSTART:20260308T090000
END:DAYLIGHT
BEGIN:STANDARD
TZOFFSETFROM:-0600
TZOFFSETTO:-0700
TZNAME:MST
DTSTART:20261101T080000
END:STANDARD
END:VTIMEZONE
BEGIN:VEVENT
DTSTART;VALUE=DATE:20250712
DTEND;VALUE=DATE:20250714
DTSTAMP:20260422T151558
CREATED:20250630T174509Z
LAST-MODIFIED:20250630T174948Z
UID:9709-1752278400-1752451199@beaverrun.com
SUMMARY:7th Annual Silverthorne Fine Art Festival
DESCRIPTION:Sat\, Jul 12\, 10:00 AM  Sun\, Jul 13\, 4:00 PM\nSilverthorne Outlets Blue River Plaza\n\n  \n*** New location in the Silverthorne Outlets Blue River Plaza next to Thirsty Pika \n  \nLive music\, face painting\, mosaic classes\, and High Country Artisans Gallery doing art demonstrations and an imagination station for the kids. \nFree admission/ Family friendly
URL:https://beaverrun.com/event/7th-annual-silverthorne-fine-art-festival/
LOCATION:Silverthorne Outlets\, 246 V Rainbow Dr\, Silverthorne\, CO\, United States
CATEGORIES:Main Events
ATTACH;FMTTYPE=image/jpeg:https://e88g3fsivjz.exactdn.com/wp-content/uploads/2025/06/7th-Annual-Silverthorne-Fine-Art-Festival.jpg
END:VEVENT
END:VCALENDAR