BEGIN:VCALENDAR
VERSION:2.0
PRODID:-//Beaver Run Resort and Conference Center - ECPv6.15.15//NONSGML v1.0//EN
CALSCALE:GREGORIAN
METHOD:PUBLISH
X-WR-CALNAME:Beaver Run Resort and Conference Center
X-ORIGINAL-URL:https://beaverrun.com
X-WR-CALDESC:Events for Beaver Run Resort and Conference Center
REFRESH-INTERVAL;VALUE=DURATION:PT1H
X-Robots-Tag:noindex
X-PUBLISHED-TTL:PT1H
BEGIN:VTIMEZONE
TZID:America/Denver
BEGIN:DAYLIGHT
TZOFFSETFROM:-0700
TZOFFSETTO:-0600
TZNAME:MDT
DTSTART:20240310T090000
END:DAYLIGHT
BEGIN:STANDARD
TZOFFSETFROM:-0600
TZOFFSETTO:-0700
TZNAME:MST
DTSTART:20241103T080000
END:STANDARD
BEGIN:DAYLIGHT
TZOFFSETFROM:-0700
TZOFFSETTO:-0600
TZNAME:MDT
DTSTART:20250309T090000
END:DAYLIGHT
BEGIN:STANDARD
TZOFFSETFROM:-0600
TZOFFSETTO:-0700
TZNAME:MST
DTSTART:20251102T080000
END:STANDARD
BEGIN:DAYLIGHT
TZOFFSETFROM:-0700
TZOFFSETTO:-0600
TZNAME:MDT
DTSTART:20260308T090000
END:DAYLIGHT
BEGIN:STANDARD
TZOFFSETFROM:-0600
TZOFFSETTO:-0700
TZNAME:MST
DTSTART:20261101T080000
END:STANDARD
END:VTIMEZONE
BEGIN:VEVENT
DTSTART;TZID=America/Denver:20250420T100000
DTEND;TZID=America/Denver:20250420T150000
DTSTAMP:20260422T151701
CREATED:20250309T175433Z
LAST-MODIFIED:20250407T213929Z
UID:8890-1745143200-1745161200@beaverrun.com
SUMMARY:Spencer's Easter Sunday Brunch
DESCRIPTION:Join us this Easter Sunday for a festive brunch at Spencer’s. We’ll have something for the whole family to enjoy. Brunch will be served from 10am to 3pm with the last seating at 2:45pm. \nApril 20th | 10am-3pm (last seating 2:45pm) \n$52 adults | $26 12yr and under \n8yr and under eat free *when staying at Beaver Run Resort\, limit 2 kids per paying adult \nWe will be featuring an omelet station and carving station along with some great brunch classics like chicken & waffles and a seafood display. \nReservations
URL:https://beaverrun.com/event/spencers-easter-sunday-brunch/
LOCATION:Spencer’s Steaks & Spirits\, 620 Village Road\, Breckenridge\, CO\, 80424\, United States
CATEGORIES:Food and Beverage,Main Events
ATTACH;FMTTYPE=image/jpeg:https://e88g3fsivjz.exactdn.com/wp-content/uploads/2024/06/Brunch-2024-1.jpg
END:VEVENT
END:VCALENDAR