BEGIN:VCALENDAR
VERSION:2.0
PRODID:-//Beaver Run Resort and Conference Center - ECPv6.15.15//NONSGML v1.0//EN
CALSCALE:GREGORIAN
METHOD:PUBLISH
X-WR-CALNAME:Beaver Run Resort and Conference Center
X-ORIGINAL-URL:https://beaverrun.com
X-WR-CALDESC:Events for Beaver Run Resort and Conference Center
REFRESH-INTERVAL;VALUE=DURATION:PT1H
X-Robots-Tag:noindex
X-PUBLISHED-TTL:PT1H
BEGIN:VTIMEZONE
TZID:America/Denver
BEGIN:DAYLIGHT
TZOFFSETFROM:-0700
TZOFFSETTO:-0600
TZNAME:MDT
DTSTART:20240310T090000
END:DAYLIGHT
BEGIN:STANDARD
TZOFFSETFROM:-0600
TZOFFSETTO:-0700
TZNAME:MST
DTSTART:20241103T080000
END:STANDARD
BEGIN:DAYLIGHT
TZOFFSETFROM:-0700
TZOFFSETTO:-0600
TZNAME:MDT
DTSTART:20250309T090000
END:DAYLIGHT
BEGIN:STANDARD
TZOFFSETFROM:-0600
TZOFFSETTO:-0700
TZNAME:MST
DTSTART:20251102T080000
END:STANDARD
BEGIN:DAYLIGHT
TZOFFSETFROM:-0700
TZOFFSETTO:-0600
TZNAME:MDT
DTSTART:20260308T090000
END:DAYLIGHT
BEGIN:STANDARD
TZOFFSETFROM:-0600
TZOFFSETTO:-0700
TZNAME:MST
DTSTART:20261101T080000
END:STANDARD
END:VTIMEZONE
BEGIN:VEVENT
DTSTART;VALUE=DATE:20251107
DTEND;VALUE=DATE:20251108
DTSTAMP:20260421T065627
CREATED:20250925T154753Z
LAST-MODIFIED:20250930T154955Z
UID:9870-1762473600-1762559999@beaverrun.com
SUMMARY:Breckenridge Opening Day
DESCRIPTION:Breckenridge Ski Resort’s tentative opening day for the 2025-2026 season is Friday\, November 7\, 2025\, but this date is subject to change based on early weather and snow conditions. The resort typically opens in early to mid-November. You can check the official Breckenridge Ski Resort website or Denver7 for the most up-to-date information on their opening day.
URL:https://beaverrun.com/event/breckenridge-opening-day/
LOCATION:Breckenridge Ski Resort\, Breckenridge\, 80424\, United States
CATEGORIES:Main Events
ATTACH;FMTTYPE=image/jpeg:https://e88g3fsivjz.exactdn.com/wp-content/uploads/2024/07/brr_image_experiences_500x3503.jpg
END:VEVENT
BEGIN:VEVENT
DTSTART;VALUE=DATE:20251107
DTEND;VALUE=DATE:20251108
DTSTAMP:20260421T065627
CREATED:20251104T173842Z
LAST-MODIFIED:20251104T173842Z
UID:9932-1762473600-1762559999@beaverrun.com
SUMMARY:Breckenridge Opening Day
DESCRIPTION:Breck Ski Resort’s opening day for the 2025-2026 season is Friday\, November 7\, 2025. The resort targets this date\, but it is subject to change based on weather and snow conditions. 
URL:https://beaverrun.com/event/breckenridge-opening-day-2/
CATEGORIES:Main Events
ATTACH;FMTTYPE=image/jpeg:https://e88g3fsivjz.exactdn.com/wp-content/uploads/2023/10/009-2021-Skiers-at-BRR_adj.jpg
END:VEVENT
END:VCALENDAR