BEGIN:VCALENDAR
VERSION:2.0
PRODID:-//Beaver Run Resort and Conference Center - ECPv6.15.15//NONSGML v1.0//EN
CALSCALE:GREGORIAN
METHOD:PUBLISH
X-WR-CALNAME:Beaver Run Resort and Conference Center
X-ORIGINAL-URL:https://beaverrun.com
X-WR-CALDESC:Events for Beaver Run Resort and Conference Center
REFRESH-INTERVAL;VALUE=DURATION:PT1H
X-Robots-Tag:noindex
X-PUBLISHED-TTL:PT1H
BEGIN:VTIMEZONE
TZID:America/Denver
BEGIN:DAYLIGHT
TZOFFSETFROM:-0700
TZOFFSETTO:-0600
TZNAME:MDT
DTSTART:20230312T090000
END:DAYLIGHT
BEGIN:STANDARD
TZOFFSETFROM:-0600
TZOFFSETTO:-0700
TZNAME:MST
DTSTART:20231105T080000
END:STANDARD
BEGIN:DAYLIGHT
TZOFFSETFROM:-0700
TZOFFSETTO:-0600
TZNAME:MDT
DTSTART:20240310T090000
END:DAYLIGHT
BEGIN:STANDARD
TZOFFSETFROM:-0600
TZOFFSETTO:-0700
TZNAME:MST
DTSTART:20241103T080000
END:STANDARD
BEGIN:DAYLIGHT
TZOFFSETFROM:-0700
TZOFFSETTO:-0600
TZNAME:MDT
DTSTART:20250309T090000
END:DAYLIGHT
BEGIN:STANDARD
TZOFFSETFROM:-0600
TZOFFSETTO:-0700
TZNAME:MST
DTSTART:20251102T080000
END:STANDARD
BEGIN:DAYLIGHT
TZOFFSETFROM:-0700
TZOFFSETTO:-0600
TZNAME:MDT
DTSTART:20260308T090000
END:DAYLIGHT
BEGIN:STANDARD
TZOFFSETFROM:-0600
TZOFFSETTO:-0700
TZNAME:MST
DTSTART:20261101T080000
END:STANDARD
END:VTIMEZONE
BEGIN:VEVENT
DTSTART;TZID=America/Denver:20250120T140000
DTEND;TZID=America/Denver:20250120T170000
DTSTAMP:20260425T142713
CREATED:20241028T195331Z
LAST-MODIFIED:20241028T195331Z
UID:6933-1737381600-1737392400@beaverrun.com
SUMMARY:DJ Murkem Live in Coppertop
DESCRIPTION:Join us in Coppertop Bar & Restaurant while DJ Murkem drops the best beats of the season!
URL:https://beaverrun.com/event/dj-murkem-live-in-coppertop-2/
LOCATION:Coppertop Bar & Restaurant\, 620 Village Rd\, Breckenridge\, CO\, 80424\, United States
CATEGORIES:Food and Beverage
ATTACH;FMTTYPE=image/jpeg:https://e88g3fsivjz.exactdn.com/wp-content/uploads/2024/10/Coppertop-DJ.jpg
END:VEVENT
BEGIN:VEVENT
DTSTART;TZID=America/Denver:20250119T140000
DTEND;TZID=America/Denver:20250119T170000
DTSTAMP:20260425T142713
CREATED:20241028T195220Z
LAST-MODIFIED:20241028T195220Z
UID:6931-1737295200-1737306000@beaverrun.com
SUMMARY:DJ Crisp Live in Coppertop
DESCRIPTION:Join us in Coppertop Bar & Restaurant while DJ Crisp drops the best beats of the season!
URL:https://beaverrun.com/event/dj-crisp-live-in-coppertop-14/
LOCATION:Coppertop Bar & Restaurant\, 620 Village Rd\, Breckenridge\, CO\, 80424\, United States
CATEGORIES:Food and Beverage
ATTACH;FMTTYPE=image/jpeg:https://e88g3fsivjz.exactdn.com/wp-content/uploads/2024/10/Coppertop-DJ.jpg
END:VEVENT
BEGIN:VEVENT
DTSTART;TZID=America/Denver:20250118T140000
DTEND;TZID=America/Denver:20250118T170000
DTSTAMP:20260425T142713
CREATED:20241028T195115Z
LAST-MODIFIED:20241028T195115Z
UID:6929-1737208800-1737219600@beaverrun.com
SUMMARY:DJ Crisp Live in Coppertop
DESCRIPTION:Join us in Coppertop Bar & Restaurant while DJ Crisp drops the best beats of the season!
URL:https://beaverrun.com/event/dj-crisp-live-in-coppertop-13/
LOCATION:Coppertop Bar & Restaurant\, 620 Village Rd\, Breckenridge\, CO\, 80424\, United States
CATEGORIES:Food and Beverage
ATTACH;FMTTYPE=image/jpeg:https://e88g3fsivjz.exactdn.com/wp-content/uploads/2024/10/Coppertop-DJ.jpg
END:VEVENT
BEGIN:VEVENT
DTSTART;TZID=America/Denver:20250112T140000
DTEND;TZID=America/Denver:20250112T170000
DTSTAMP:20260425T142713
CREATED:20241028T194934Z
LAST-MODIFIED:20241028T194934Z
UID:6927-1736690400-1736701200@beaverrun.com
SUMMARY:DJ Crisp Live in Coppertop
DESCRIPTION:Join us in Coppertop Bar & Restaurant while DJ Crisp drops the best beats of the season!
URL:https://beaverrun.com/event/dj-crisp-live-in-coppertop-12/
LOCATION:Coppertop Bar & Restaurant\, 620 Village Rd\, Breckenridge\, CO\, 80424\, United States
CATEGORIES:Food and Beverage
ATTACH;FMTTYPE=image/jpeg:https://e88g3fsivjz.exactdn.com/wp-content/uploads/2024/10/Coppertop-DJ.jpg
END:VEVENT
BEGIN:VEVENT
DTSTART;TZID=America/Denver:20250111T140000
DTEND;TZID=America/Denver:20250111T170000
DTSTAMP:20260425T142713
CREATED:20241028T193839Z
LAST-MODIFIED:20241028T193839Z
UID:6925-1736604000-1736614800@beaverrun.com
SUMMARY:DJ Crisp Live in Coppertop
DESCRIPTION:Join us in Coppertop Bar & Restaurant while DJ Crisp drops the best beats of the season!
URL:https://beaverrun.com/event/dj-crisp-live-in-coppertop-11/
LOCATION:Coppertop Bar & Restaurant\, 620 Village Rd\, Breckenridge\, CO\, 80424\, United States
CATEGORIES:Food and Beverage
ATTACH;FMTTYPE=image/jpeg:https://e88g3fsivjz.exactdn.com/wp-content/uploads/2024/10/Coppertop-DJ.jpg
END:VEVENT
BEGIN:VEVENT
DTSTART;TZID=America/Denver:20250106T140000
DTEND;TZID=America/Denver:20250106T170000
DTSTAMP:20260425T142713
CREATED:20241028T193639Z
LAST-MODIFIED:20241028T193906Z
UID:6923-1736172000-1736182800@beaverrun.com
SUMMARY:DJ Crisp Live in Coppertop
DESCRIPTION:Join us in Coppertop Bar & Restaurant while DJ Crisp drops the best beats of the season!
URL:https://beaverrun.com/event/dj-crisp-live-in-coppertop-10/
LOCATION:Coppertop Bar & Restaurant\, 620 Village Rd\, Breckenridge\, CO\, 80424\, United States
CATEGORIES:Food and Beverage
ATTACH;FMTTYPE=image/jpeg:https://e88g3fsivjz.exactdn.com/wp-content/uploads/2024/10/Coppertop-DJ.jpg
END:VEVENT
BEGIN:VEVENT
DTSTART;TZID=America/Denver:20250105T140000
DTEND;TZID=America/Denver:20250105T170000
DTSTAMP:20260425T142713
CREATED:20241028T193348Z
LAST-MODIFIED:20241028T193348Z
UID:6921-1736085600-1736096400@beaverrun.com
SUMMARY:DJ Crisp Live in Coppertop
DESCRIPTION:Join us in Coppertop Bar & Restaurant while DJ Crisp drops the best beats of the season!
URL:https://beaverrun.com/event/dj-crisp-live-in-coppertop-9/
LOCATION:Coppertop Bar & Restaurant\, 620 Village Rd\, Breckenridge\, CO\, 80424\, United States
CATEGORIES:Food and Beverage
ATTACH;FMTTYPE=image/jpeg:https://e88g3fsivjz.exactdn.com/wp-content/uploads/2024/10/Coppertop-DJ.jpg
END:VEVENT
BEGIN:VEVENT
DTSTART;TZID=America/Denver:20250104T140000
DTEND;TZID=America/Denver:20250104T170000
DTSTAMP:20260425T142713
CREATED:20241028T193034Z
LAST-MODIFIED:20241028T193034Z
UID:6919-1735999200-1736010000@beaverrun.com
SUMMARY:DJ Crisp Live in Coppertop
DESCRIPTION:Join us in Coppertop Bar & Restaurant while DJ Crisp drops the best beats of the season!
URL:https://beaverrun.com/event/dj-crisp-live-in-coppertop-8/
LOCATION:Coppertop Bar & Restaurant\, 620 Village Rd\, Breckenridge\, CO\, 80424\, United States
CATEGORIES:Food and Beverage
ATTACH;FMTTYPE=image/jpeg:https://e88g3fsivjz.exactdn.com/wp-content/uploads/2024/10/Coppertop-DJ.jpg
END:VEVENT
BEGIN:VEVENT
DTSTART;TZID=America/Denver:20250103T140000
DTEND;TZID=America/Denver:20250103T170000
DTSTAMP:20260425T142713
CREATED:20241028T192848Z
LAST-MODIFIED:20241028T192848Z
UID:6917-1735912800-1735923600@beaverrun.com
SUMMARY:DJ Murkem Live in Coppertop
DESCRIPTION:Join us in Coppertop Bar & Restaurant while DJ Murkem drops the best beats of the season!
URL:https://beaverrun.com/event/dj-murkem-live-in-coppertop/
LOCATION:Coppertop Bar & Restaurant\, 620 Village Rd\, Breckenridge\, CO\, 80424\, United States
CATEGORIES:Food and Beverage
ATTACH;FMTTYPE=image/jpeg:https://e88g3fsivjz.exactdn.com/wp-content/uploads/2024/10/Coppertop-DJ.jpg
END:VEVENT
BEGIN:VEVENT
DTSTART;TZID=America/Denver:20250102T140000
DTEND;TZID=America/Denver:20250102T170000
DTSTAMP:20260425T142713
CREATED:20241028T192653Z
LAST-MODIFIED:20241028T192653Z
UID:6915-1735826400-1735837200@beaverrun.com
SUMMARY:DJ Crisp Live in Coppertop
DESCRIPTION:Join us in Coppertop Bar & Restaurant while DJ Crisp drops the best beats of the season!
URL:https://beaverrun.com/event/dj-crisp-live-in-coppertop-7/
LOCATION:Coppertop Bar & Restaurant\, 620 Village Rd\, Breckenridge\, CO\, 80424\, United States
CATEGORIES:Food and Beverage
ATTACH;FMTTYPE=image/jpeg:https://e88g3fsivjz.exactdn.com/wp-content/uploads/2024/10/Coppertop-DJ.jpg
END:VEVENT
BEGIN:VEVENT
DTSTART;TZID=America/Denver:20250101T140000
DTEND;TZID=America/Denver:20250101T170000
DTSTAMP:20260425T142713
CREATED:20241028T192403Z
LAST-MODIFIED:20241028T192403Z
UID:6913-1735740000-1735750800@beaverrun.com
SUMMARY:New Year's Day Party featuring DJ Murkem in Coppertop
DESCRIPTION:Ready to celebrate the new year? We’ve got you! Come on down to Coppertop Bar & Restaurant and rock the day away with DJ Murkem!
URL:https://beaverrun.com/event/new-years-day-party-featuring-dj-murkem-in-coppertop/
LOCATION:Coppertop Bar & Restaurant\, 620 Village Rd\, Breckenridge\, CO\, 80424\, United States
CATEGORIES:Food and Beverage
ATTACH;FMTTYPE=image/jpeg:https://e88g3fsivjz.exactdn.com/wp-content/uploads/2024/10/NYE-Party.jpg
END:VEVENT
BEGIN:VEVENT
DTSTART;TZID=America/Denver:20241231T210000
DTEND;TZID=America/Denver:20250101T010000
DTSTAMP:20260425T142713
CREATED:20241028T191850Z
LAST-MODIFIED:20241028T192426Z
UID:6909-1735678800-1735693200@beaverrun.com
SUMMARY:New Year's Eve Bash featuring DJ Crisp in Base 9
DESCRIPTION:Join us in Base 9 Bar and ring in the New Year with DJ Crisp!
URL:https://beaverrun.com/event/new-years-eve-bash-featuring-dj-crisp-in-base-9/
LOCATION:Base 9 Bar\, 620 Village Rd\, Breckenridge\, CO\, 80424\, United States
CATEGORIES:Food and Beverage,Main Events
ATTACH;FMTTYPE=image/jpeg:https://e88g3fsivjz.exactdn.com/wp-content/uploads/2024/10/NYE-Party.jpg
END:VEVENT
BEGIN:VEVENT
DTSTART;TZID=America/Denver:20241231T143000
DTEND;TZID=America/Denver:20241231T183000
DTSTAMP:20260425T142713
CREATED:20241028T191303Z
LAST-MODIFIED:20241028T191303Z
UID:6907-1735655400-1735669800@beaverrun.com
SUMMARY:DJ Crisp Live in Coppertop
DESCRIPTION:Join us in Coppertop Bar & Restaurant while DJ Crisp drops the beats of the season!
URL:https://beaverrun.com/event/dj-crisp-live-in-coppertop-6/
LOCATION:Coppertop Bar & Restaurant\, 620 Village Rd\, Breckenridge\, CO\, 80424\, United States
CATEGORIES:Food and Beverage
ATTACH;FMTTYPE=image/jpeg:https://e88g3fsivjz.exactdn.com/wp-content/uploads/2024/10/Coppertop-DJ.jpg
END:VEVENT
BEGIN:VEVENT
DTSTART;TZID=America/Denver:20241230T140000
DTEND;TZID=America/Denver:20241230T170000
DTSTAMP:20260425T142713
CREATED:20241028T191059Z
LAST-MODIFIED:20241028T191059Z
UID:6905-1735567200-1735578000@beaverrun.com
SUMMARY:DJ Crisp Live in Coppertop
DESCRIPTION:Join us in Coppertop Bar & Restaurant while DJ Crisp drops the beats of the season!
URL:https://beaverrun.com/event/dj-crisp-live-in-coppertop-5/
LOCATION:Coppertop Bar & Restaurant\, 620 Village Rd\, Breckenridge\, CO\, 80424\, United States
CATEGORIES:Food and Beverage
ATTACH;FMTTYPE=image/jpeg:https://e88g3fsivjz.exactdn.com/wp-content/uploads/2024/10/Coppertop-DJ.jpg
END:VEVENT
BEGIN:VEVENT
DTSTART;TZID=America/Denver:20241229T140000
DTEND;TZID=America/Denver:20241229T170000
DTSTAMP:20260425T142713
CREATED:20241028T190926Z
LAST-MODIFIED:20241028T190926Z
UID:6903-1735480800-1735491600@beaverrun.com
SUMMARY:DJ Crisp Live in Coppertop
DESCRIPTION:Join us in Coppertop Bar & Restaurant while DJ Crisp drops the beats of the season!
URL:https://beaverrun.com/event/dj-crisp-live-in-coppertop-4/
LOCATION:Coppertop Bar & Restaurant\, 620 Village Rd\, Breckenridge\, CO\, 80424\, United States
CATEGORIES:Food and Beverage
ATTACH;FMTTYPE=image/jpeg:https://e88g3fsivjz.exactdn.com/wp-content/uploads/2024/10/Coppertop-DJ.jpg
END:VEVENT
BEGIN:VEVENT
DTSTART;TZID=America/Denver:20241228T140000
DTEND;TZID=America/Denver:20241228T170000
DTSTAMP:20260425T142713
CREATED:20241028T190534Z
LAST-MODIFIED:20241028T190714Z
UID:6901-1735394400-1735405200@beaverrun.com
SUMMARY:DJ Crisp Live in Coppertop
DESCRIPTION:Join us in Coppertop Bar & Restaurant while DJ Crisp drops the beats of the season!
URL:https://beaverrun.com/event/dj-crisp-live-in-coppertop-3/
LOCATION:Coppertop Bar & Restaurant\, 620 Village Rd\, Breckenridge\, CO\, 80424\, United States
CATEGORIES:Food and Beverage
ATTACH;FMTTYPE=image/jpeg:https://e88g3fsivjz.exactdn.com/wp-content/uploads/2024/10/Coppertop-DJ.jpg
END:VEVENT
BEGIN:VEVENT
DTSTART;TZID=America/Denver:20241227T140000
DTEND;TZID=America/Denver:20241227T170000
DTSTAMP:20260425T142713
CREATED:20241028T190258Z
LAST-MODIFIED:20241028T190738Z
UID:6899-1735308000-1735318800@beaverrun.com
SUMMARY:DJ Crisp Live in Coppertop
DESCRIPTION:Join us in Coppertop Bar & Restaurant while DJ Crisp drops the beats of the season!
URL:https://beaverrun.com/event/dj-crisp-live-in-coppertop-2/
LOCATION:Coppertop Bar & Restaurant\, 620 Village Rd\, Breckenridge\, CO\, 80424\, United States
CATEGORIES:Food and Beverage
ATTACH;FMTTYPE=image/jpeg:https://e88g3fsivjz.exactdn.com/wp-content/uploads/2024/10/Coppertop-DJ.jpg
END:VEVENT
BEGIN:VEVENT
DTSTART;TZID=America/Denver:20241226T140000
DTEND;TZID=America/Denver:20241226T170000
DTSTAMP:20260425T142713
CREATED:20241028T184702Z
LAST-MODIFIED:20241028T185845Z
UID:6892-1735221600-1735232400@beaverrun.com
SUMMARY:DJ Crisp Live in Coppertop
DESCRIPTION:Join us in Coppertop Bar & Restaurant while DJ Crisp drops the beats of the season!
URL:https://beaverrun.com/event/dj-crisp-live-in-coppertop/
LOCATION:Coppertop Bar & Restaurant\, 620 Village Rd\, Breckenridge\, CO\, 80424\, United States
CATEGORIES:Food and Beverage
ATTACH;FMTTYPE=image/jpeg:https://e88g3fsivjz.exactdn.com/wp-content/uploads/2024/10/Coppertop-DJ.jpg
END:VEVENT
BEGIN:VEVENT
DTSTART;TZID=America/Denver:20241225T110000
DTEND;TZID=America/Denver:20241225T190000
DTSTAMP:20260425T142713
CREATED:20241007T023425Z
LAST-MODIFIED:20241203T184437Z
UID:6734-1735124400-1735153200@beaverrun.com
SUMMARY:Spencer's Holiday Feast
DESCRIPTION:Join us Christmas Day for Spencer’s Holiday Feast! Feastivities will include holiday favorites\, winter drinks specials\, and more! \nALL YOU CAN EAT!\n$78++ Adults\n$38++ Kids Under 12\nKIDS UNDER 8 EAT FREE!* \nPlease call us to inquire about reservations for parties of 20+! \n\n$15 per-person deposit required to hold reservations. This deposit is refundable with at least one (1) week’s notice of cancellation or upon a party’s arrival.\nThis event is subject to a 21% gratuity for all parties.\nLarger parties may be seated in our adjacent Summit Gallery dining space.\nKids under 8 eat free when staying at Beaver Run Resort. Limit 2 kids’ meals per paid adult. Taxes\, resort fee\, and gratuity are NOT included.
URL:https://beaverrun.com/event/holiday-dinner/
LOCATION:Spencer’s Steaks & Spirits\, 620 Village Road\, Breckenridge\, CO\, 80424\, United States
CATEGORIES:Food and Beverage,Main Events
ATTACH;FMTTYPE=image/jpeg:https://e88g3fsivjz.exactdn.com/wp-content/uploads/2024/10/AdobeStock_611969823.jpeg
END:VEVENT
BEGIN:VEVENT
DTSTART;TZID=America/Denver:20241222T140000
DTEND;TZID=America/Denver:20241222T170000
DTSTAMP:20260425T142713
CREATED:20241219T194629Z
LAST-MODIFIED:20241219T194629Z
UID:8237-1734876000-1734886800@beaverrun.com
SUMMARY:DJ Crisp Live in Coppertop
DESCRIPTION:Join us in Coppertop Bar & Restaurant while DJ Crisp drops the best beats of the season!
URL:https://beaverrun.com/event/dj-crisp-live-in-coppertop-17/
LOCATION:Coppertop Bar & Restaurant\, 620 Village Rd\, Breckenridge\, CO\, 80424\, United States
CATEGORIES:Food and Beverage
ATTACH;FMTTYPE=image/jpeg:https://e88g3fsivjz.exactdn.com/wp-content/uploads/2024/10/Coppertop-DJ.jpg
END:VEVENT
BEGIN:VEVENT
DTSTART;TZID=America/Denver:20241207T110000
DTEND;TZID=America/Denver:20241207T150000
DTSTAMP:20260425T142713
CREATED:20241101T184353Z
LAST-MODIFIED:20241106T230919Z
UID:7056-1733569200-1733583600@beaverrun.com
SUMMARY:Peak 9 Opening Party in Coppertop
DESCRIPTION:Celebrate the opening of Peak 9 with us in Coppertop Bar & Restaurant!
URL:https://beaverrun.com/event/peak-9-opening-party-in-coppertop/
LOCATION:Coppertop Bar & Restaurant\, 620 Village Rd\, Breckenridge\, CO\, 80424\, United States
CATEGORIES:Food and Beverage,Main Events
ATTACH;FMTTYPE=image/jpeg:https://e88g3fsivjz.exactdn.com/wp-content/uploads/2024/11/21-2023-Apres-ski.jpg
END:VEVENT
END:VCALENDAR