BEGIN:VCALENDAR
VERSION:2.0
PRODID:-//Beaver Run Resort and Conference Center - ECPv6.15.15//NONSGML v1.0//EN
CALSCALE:GREGORIAN
METHOD:PUBLISH
X-WR-CALNAME:Beaver Run Resort and Conference Center
X-ORIGINAL-URL:https://beaverrun.com
X-WR-CALDESC:Events for Beaver Run Resort and Conference Center
REFRESH-INTERVAL;VALUE=DURATION:PT1H
X-Robots-Tag:noindex
X-PUBLISHED-TTL:PT1H
BEGIN:VTIMEZONE
TZID:America/Denver
BEGIN:DAYLIGHT
TZOFFSETFROM:-0700
TZOFFSETTO:-0600
TZNAME:MDT
DTSTART:20240310T090000
END:DAYLIGHT
BEGIN:STANDARD
TZOFFSETFROM:-0600
TZOFFSETTO:-0700
TZNAME:MST
DTSTART:20241103T080000
END:STANDARD
BEGIN:DAYLIGHT
TZOFFSETFROM:-0700
TZOFFSETTO:-0600
TZNAME:MDT
DTSTART:20250309T090000
END:DAYLIGHT
BEGIN:STANDARD
TZOFFSETFROM:-0600
TZOFFSETTO:-0700
TZNAME:MST
DTSTART:20251102T080000
END:STANDARD
BEGIN:DAYLIGHT
TZOFFSETFROM:-0700
TZOFFSETTO:-0600
TZNAME:MDT
DTSTART:20260308T090000
END:DAYLIGHT
BEGIN:STANDARD
TZOFFSETFROM:-0600
TZOFFSETTO:-0700
TZNAME:MST
DTSTART:20261101T080000
END:STANDARD
END:VTIMEZONE
BEGIN:VEVENT
DTSTART;TZID=America/Denver:20250710T173000
DTEND;TZID=America/Denver:20250710T203000
DTSTAMP:20260422T102028
CREATED:20250616T162405Z
LAST-MODIFIED:20250616T162405Z
UID:9685-1752168600-1752179400@beaverrun.com
SUMMARY:A Creative + Culinary Affair
DESCRIPTION:From Breck Create: \n” \nJoin us for an extraordinary evening that brings together vibrant food\, art\, and music—all in support of Breck Create’s free education and community programs. Set against the backdrop of the charming\, historic Ridge Street Arts Square\, this immersive event invites you to indulge your senses and unleash your creativity. \nSavor inspired small plates crafted by some of the region’s top chefs\, each dish uniquely designed for the evening. Don’t miss live culinary demonstrations by James Beard Award-winning chef Matt Vawter\, showcasing his signature style and innovative techniques. Throughout the Arts District campus\, you’ll find an enticing variety of savory bites\, creative drink stations\, and decadent desserts. \nThe AirStage comes alive with the jazz and rustic folk sounds of the Jacob Herold Band\, providing a dynamic soundtrack to your evening. Wander through the historic studios and get hands-on with interactive art experiences—design a wearable brooch\, print your own wine bag\, or create a custom leather drink holder to take home. \nAdding even more magic to the night\, pop-up circus-style performances will surprise and delight guests throughout the campus. \nKick off the night with a welcome reception and check-in at Old Masonic Hall\, a stunning contemporary gallery space that sets the tone for a night full of discovery and delight. \nWhether you come for the food\, the music\, the art—or all three—this one-of-a-kind celebration promises an unforgettable evening\, all while supporting Breck Create’s mission to make the arts accessible to all. \nScroll for list of participating chefs and artists! \nNeed childcare during the event?\nMountain Top Explorium’s Kids Night Out offers an evening of fun\, creativity\, and discovery for children ages 3 and up who are bathroom independent. Kids will enjoy dinner\, hands-on activities\, artistic adventures\, and exciting experiments while parents get a well-deserved night off! You may drop your child off at 5:30 PM and pick them up at 9 PM just a short walk away from the event! \nAdvance registration is required. Book your spot here.“
URL:https://beaverrun.com/event/a-creative-culinary-affair/
LOCATION:Ridge Street Arts Square\, 117 Washington Ave\, Breckenridge\, CO\, 80424\, United States
CATEGORIES:Main Events
ATTACH;FMTTYPE=image/jpeg:https://e88g3fsivjz.exactdn.com/wp-content/uploads/2025/06/Creative-Culinary-Affair.jpg
END:VEVENT
END:VCALENDAR